BEGIN:VCALENDAR
VERSION:2.0
PRODID:-//RAO Community Health - ECPv6.15.20//NONSGML v1.0//EN
CALSCALE:GREGORIAN
METHOD:PUBLISH
X-ORIGINAL-URL:https://raoassist.org
X-WR-CALDESC:Events for RAO Community Health
REFRESH-INTERVAL;VALUE=DURATION:PT1H
X-Robots-Tag:noindex
X-PUBLISHED-TTL:PT1H
BEGIN:VTIMEZONE
TZID:America/New_York
BEGIN:DAYLIGHT
TZOFFSETFROM:-0500
TZOFFSETTO:-0400
TZNAME:EDT
DTSTART:20180311T070000
END:DAYLIGHT
BEGIN:STANDARD
TZOFFSETFROM:-0400
TZOFFSETTO:-0500
TZNAME:EST
DTSTART:20181104T060000
END:STANDARD
BEGIN:DAYLIGHT
TZOFFSETFROM:-0500
TZOFFSETTO:-0400
TZNAME:EDT
DTSTART:20190310T070000
END:DAYLIGHT
BEGIN:STANDARD
TZOFFSETFROM:-0400
TZOFFSETTO:-0500
TZNAME:EST
DTSTART:20191103T060000
END:STANDARD
BEGIN:DAYLIGHT
TZOFFSETFROM:-0500
TZOFFSETTO:-0400
TZNAME:EDT
DTSTART:20200308T070000
END:DAYLIGHT
BEGIN:STANDARD
TZOFFSETFROM:-0400
TZOFFSETTO:-0500
TZNAME:EST
DTSTART:20201101T060000
END:STANDARD
BEGIN:DAYLIGHT
TZOFFSETFROM:-0500
TZOFFSETTO:-0400
TZNAME:EDT
DTSTART:20210314T070000
END:DAYLIGHT
BEGIN:STANDARD
TZOFFSETFROM:-0400
TZOFFSETTO:-0500
TZNAME:EST
DTSTART:20211107T060000
END:STANDARD
BEGIN:DAYLIGHT
TZOFFSETFROM:-0500
TZOFFSETTO:-0400
TZNAME:EDT
DTSTART:20220313T070000
END:DAYLIGHT
BEGIN:STANDARD
TZOFFSETFROM:-0400
TZOFFSETTO:-0500
TZNAME:EST
DTSTART:20221106T060000
END:STANDARD
END:VTIMEZONE
BEGIN:VEVENT
DTSTART;TZID=America/New_York:20210121T100000
DTEND;TZID=America/New_York:20210121T130000
DTSTAMP:20260421T124617
CREATED:20210111T205617Z
LAST-MODIFIED:20210111T210702Z
UID:2781-1611223200-1611234000@raoassist.org
SUMMARY:Free Flu Shots & Food Pantry Drive-Thru
DESCRIPTION:Please join Cooperative Christian Ministry (www.cooperativeministry.com) and RAO Community Health\, as we host a flu shot and food pantry drive-thru on Thursday\, January 21 from 10am-1pm at Cooperative Christian Ministry. RAO Community Health will be distributing free masks and hand sanitizers\, along with administering free flu shots sponsored by Avita Pharmacy. This is an outside event open to the public. COVID-19 safety protocols will be followed.
URL:https://raoassist.org/calendar/free-flu-shots-food-pantry-drive-thru/
LOCATION:Cooperative Christain Ministry\, 246 Country Club Drive\, NE\, Concord\, NC\, 28025\, United States
END:VEVENT
BEGIN:VEVENT
DTSTART;TZID=America/New_York:20201121T100000
DTEND;TZID=America/New_York:20201121T150000
DTSTAMP:20260421T124617
CREATED:20201110T151000Z
LAST-MODIFIED:20201111T135317Z
UID:2736-1605952800-1605970800@raoassist.org
SUMMARY:Omega Psi Phi Blood Drive/Flu/COVID-19 Community Outreach
DESCRIPTION:Join the Pi Phi Chapter of Omega Psi Phi Fraternity Inc.\, as they host a mobile blood drive with the American Red Cross. RAO Community Health will be in attendance giving out free masks & hand sanitizers\, along with administering free flu shots sponsored by Avita Pharmacy. Come out and enjoy music from Power98 hosted by No Limit Larry. This is a free drive-thru\, outside event open to the public. COVID-19 safety protocols will be followed. Please visit www.redcrossblood.org\, to schedule an appointment to donate blood.
URL:https://raoassist.org/calendar/omega-psi-phi-blood-drive-flu-covid-19-community-outreach/
LOCATION:Omega Psi Phi Fraternity House\, 3301 Statesville Ave.\, Charlotte\, NC\, 28206\, United States
END:VEVENT
BEGIN:VEVENT
DTSTART;TZID=America/New_York:20200207T120000
DTEND;TZID=America/New_York:20200207T160000
DTSTAMP:20260421T124617
CREATED:20200128T204159Z
LAST-MODIFIED:20200128T204416Z
UID:2011-1581076800-1581091200@raoassist.org
SUMMARY:2nd Annual Let's Get Tested Event
DESCRIPTION:It’s that time again! Join us for our 2nd annual Let’s Get Tested event at the Walgreens on Freedom Drive for FREE HIV testing and free goodies\, February 7th for National Black HIV/AIDS Awareness Day! We’ll be there along with Carolina Care Partnership\, BTAN Charlotte\, and Oak Street Health. We hope to see you there!
URL:https://raoassist.org/calendar/2nd-annual-lets-get-tested-event/
LOCATION:Walgreens\, 3251 Freedom Drive\, Charlotte\, NC\, 28208
END:VEVENT
BEGIN:VEVENT
DTSTART;TZID=America/New_York:20191212T180000
DTEND;TZID=America/New_York:20191212T193000
DTSTAMP:20260421T124617
CREATED:20191210T202131Z
LAST-MODIFIED:20191210T202131Z
UID:1862-1576173600-1576179000@raoassist.org
SUMMARY:Holiday Coalition Meeting
DESCRIPTION:
URL:https://raoassist.org/calendar/holiday-coalition-meeting/
LOCATION:RAO Community Health\, 321 W 11th Street\, Charlotte\, NC\, 28202\, United States
END:VEVENT
BEGIN:VEVENT
DTSTART;VALUE=DATE:20190817
DTEND;VALUE=DATE:20190819
DTSTAMP:20260421T124617
CREATED:20190222T145821Z
LAST-MODIFIED:20190222T145821Z
UID:1078-1566000000-1566172799@raoassist.org
SUMMARY:Charlotte PRIDE Festival & Parade 2019
DESCRIPTION:
URL:https://raoassist.org/calendar/charlotte-pride-festival-parade-2019/
LOCATION:NC
END:VEVENT
BEGIN:VEVENT
DTSTART;TZID=America/New_York:20190608T120000
DTEND;TZID=America/New_York:20190608T140000
DTSTAMP:20260421T124617
CREATED:20190528T164450Z
LAST-MODIFIED:20190528T164450Z
UID:1738-1559995200-1560002400@raoassist.org
SUMMARY:Power 98 Block Party
DESCRIPTION:Join Power 98 Saturday\, June 8th from 12pm – 2pm at the Goodwill Opportunity Campus\, 5301 Wilkinson Blvd\, for the Power 98 Block Party! Come out and enjoy great food\, games\, music\, and special guest performances! Brought to you by Healthy Blue North Carolina!
URL:https://raoassist.org/calendar/power-98-block-party/
LOCATION:Goodwill Opportunity Campus\, 5301 Wilkinson Boulevard\, Charlotte\, NC\, 28208\, United States
END:VEVENT
BEGIN:VEVENT
DTSTART;TZID=America/New_York:20190504T090000
DTEND;TZID=America/New_York:20190504T090000
DTSTAMP:20260421T124617
CREATED:20190222T151356Z
LAST-MODIFIED:20190222T151516Z
UID:1080-1556960400-1556960400@raoassist.org
SUMMARY:AIDS Walk Charlotte
DESCRIPTION:
URL:https://raoassist.org/calendar/aids-walk-charlotte/
LOCATION:NC
END:VEVENT
BEGIN:VEVENT
DTSTART;TZID=America/New_York:20190418T183000
DTEND;TZID=America/New_York:20190418T203000
DTSTAMP:20260421T124617
CREATED:20190313T141013Z
LAST-MODIFIED:20190313T141828Z
UID:1443-1555612200-1555619400@raoassist.org
SUMMARY:PrEP Mixer
DESCRIPTION:Please join Rosedale Assistance & Opportunities for food\, music\, prizes\, & free goodies\, as we have an open discussion on PrEP. Event sponsored by Gilead. \nCLICK HERE to view PrEP mixer flyer
URL:https://raoassist.org/calendar/prep-mixer/
LOCATION:RAO Community Health\, 321 W 11th Street\, Charlotte\, NC\, 28202\, United States
END:VEVENT
BEGIN:VEVENT
DTSTART;TZID=America/New_York:20190207T120000
DTEND;TZID=America/New_York:20190207T160000
DTSTAMP:20260421T124617
CREATED:20190222T152557Z
LAST-MODIFIED:20190222T153809Z
UID:1082-1549540800-1549555200@raoassist.org
SUMMARY:Let's Get Tested: National Black HIV/AIDS Awareness Day
DESCRIPTION:Please join Rosedale Assistance & Opportunities\, as we administer free testing for HIV\, Syphilis\, & Hepatitis on Thursday\, 2/7/19\,  for National Black HIV/AIDS Awareness Day! Come and get free testing and enter in the raffle! Partnered with Walgreens\, Carolina Cares Partnership\, Mecklenburg County Health Department\, and Streetz 103.3.
URL:https://raoassist.org/calendar/lets-get-tested-national-black-hiv-aids-awareness-day/
LOCATION:Walgreens\, 3251 Freedom Drive\, Charlotte\, NC\, 28208
END:VEVENT
END:VCALENDAR