BEGIN:VCALENDAR
VERSION:2.0
PRODID:-//RAO Community Health - ECPv6.15.20//NONSGML v1.0//EN
CALSCALE:GREGORIAN
METHOD:PUBLISH
X-WR-CALNAME:RAO Community Health
X-ORIGINAL-URL:https://raoassist.org
X-WR-CALDESC:Events for RAO Community Health
REFRESH-INTERVAL;VALUE=DURATION:PT1H
X-Robots-Tag:noindex
X-PUBLISHED-TTL:PT1H
BEGIN:VTIMEZONE
TZID:America/New_York
BEGIN:DAYLIGHT
TZOFFSETFROM:-0500
TZOFFSETTO:-0400
TZNAME:EDT
DTSTART:20240310T070000
END:DAYLIGHT
BEGIN:STANDARD
TZOFFSETFROM:-0400
TZOFFSETTO:-0500
TZNAME:EST
DTSTART:20241103T060000
END:STANDARD
BEGIN:DAYLIGHT
TZOFFSETFROM:-0500
TZOFFSETTO:-0400
TZNAME:EDT
DTSTART:20250309T070000
END:DAYLIGHT
BEGIN:STANDARD
TZOFFSETFROM:-0400
TZOFFSETTO:-0500
TZNAME:EST
DTSTART:20251102T060000
END:STANDARD
BEGIN:DAYLIGHT
TZOFFSETFROM:-0500
TZOFFSETTO:-0400
TZNAME:EDT
DTSTART:20260308T070000
END:DAYLIGHT
BEGIN:STANDARD
TZOFFSETFROM:-0400
TZOFFSETTO:-0500
TZNAME:EST
DTSTART:20261101T060000
END:STANDARD
END:VTIMEZONE
BEGIN:VEVENT
DTSTART;TZID=America/New_York:20251101T180000
DTEND;TZID=America/New_York:20251101T220000
DTSTAMP:20260421T154510
CREATED:20221004T153856Z
LAST-MODIFIED:20250925T191812Z
UID:5023-1762020000-1762034400@raoassist.org
SUMMARY:RAO Community Health’s 2025 Annual Gala
DESCRIPTION:RAO Community Health proudly invites you to our 2nd Annual Gala on Saturday\, November 1\, 2025\, at 7pm\, Founders Hall in Charlotte\, NC.\n\nThis year’s theme is “Bows\, Gowns & Sneaks” a fabulous fusion of elegance and edge\, where you can shine in your finest attire and your favorite sneakers. \n\n\nBecause just like our mission\, this night is all about breaking boundaries.\n\nEvent Details: \n\nDress to IMPRESS!\nDoors open at 6:00pm for VIP reception\nDoors open at 7:00pm for general tickets\nOn-site parking available for a fee\nSilent auction\n\n 
URL:https://raoassist.org/calendar/rao-community-healths-annual-gala/
LOCATION:Founders Hall\, 100 N Tryon St\, Charlotte\, 28202\, United States
CATEGORIES:RAO Events
ATTACH;FMTTYPE=image/jpeg:https://raoassist.org/wp-content/uploads/2022/10/RAO2025-Annual-Gala-Web-Event-Background-scaled.jpg
ORGANIZER;CN="RAO Community Health":MAILTO:rao_assist@raoassist.org
END:VEVENT
END:VCALENDAR